BEGIN:VCALENDAR
VERSION:2.0
PRODID:-//Swansea Baptist Church - ECPv6.15.20//NONSGML v1.0//EN
CALSCALE:GREGORIAN
METHOD:PUBLISH
X-WR-CALNAME:Swansea Baptist Church
X-ORIGINAL-URL:https://www.swanseabaptistchurch.org.au
X-WR-CALDESC:Events for Swansea Baptist Church
REFRESH-INTERVAL;VALUE=DURATION:PT1H
X-Robots-Tag:noindex
X-PUBLISHED-TTL:PT1H
BEGIN:VTIMEZONE
TZID:Australia/Sydney
BEGIN:STANDARD
TZOFFSETFROM:+1100
TZOFFSETTO:+1000
TZNAME:AEST
DTSTART:20230401T160000
END:STANDARD
BEGIN:DAYLIGHT
TZOFFSETFROM:+1000
TZOFFSETTO:+1100
TZNAME:AEDT
DTSTART:20230930T160000
END:DAYLIGHT
BEGIN:STANDARD
TZOFFSETFROM:+1100
TZOFFSETTO:+1000
TZNAME:AEST
DTSTART:20240406T160000
END:STANDARD
BEGIN:DAYLIGHT
TZOFFSETFROM:+1000
TZOFFSETTO:+1100
TZNAME:AEDT
DTSTART:20241005T160000
END:DAYLIGHT
BEGIN:STANDARD
TZOFFSETFROM:+1100
TZOFFSETTO:+1000
TZNAME:AEST
DTSTART:20250405T160000
END:STANDARD
BEGIN:DAYLIGHT
TZOFFSETFROM:+1000
TZOFFSETTO:+1100
TZNAME:AEDT
DTSTART:20251004T160000
END:DAYLIGHT
END:VTIMEZONE
BEGIN:VEVENT
DTSTART;TZID=Australia/Sydney:20241222T170000
DTEND;TZID=Australia/Sydney:20241222T203000
DTSTAMP:20260425T232246
CREATED:20241209T231522Z
LAST-MODIFIED:20241209T231715Z
UID:4642-1734886800-1734899400@www.swanseabaptistchurch.org.au
SUMMARY:Christmas Carols
DESCRIPTION:Join us for some Christmas fun on Sunday 22nd December.  Fun starts at 5pm with games and BBQ\, followed by Family games and Fergus.  We will then sit under the twinkling lights and sing Christmas carols while we enjoy an interactive nativity presentation.  Something for every age!
URL:https://www.swanseabaptistchurch.org.au/event/christmas-carols/
LOCATION:Church\, 15 Strathmore Rd\, Caves Beach\, NSW\, 2281\, Australia
CATEGORIES:Community,Family,Food,Kids
ATTACH;FMTTYPE=image/jpeg:https://www.swanseabaptistchurch.org.au/wp-content/uploads/sites/3/2024/12/website-carols.jpg
ORGANIZER;CN="Swansea Baptist Church":MAILTO:churchadmin@swanseabaptistchurch.org.au
END:VEVENT
END:VCALENDAR