BEGIN:VCALENDAR
VERSION:2.0
PRODID:-//Swansea Baptist Church - ECPv6.15.20//NONSGML v1.0//EN
CALSCALE:GREGORIAN
METHOD:PUBLISH
X-ORIGINAL-URL:https://www.swanseabaptistchurch.org.au
X-WR-CALDESC:Events for Swansea Baptist Church
REFRESH-INTERVAL;VALUE=DURATION:PT1H
X-Robots-Tag:noindex
X-PUBLISHED-TTL:PT1H
BEGIN:VTIMEZONE
TZID:Australia/Sydney
BEGIN:STANDARD
TZOFFSETFROM:+1100
TZOFFSETTO:+1000
TZNAME:AEST
DTSTART:20230401T160000
END:STANDARD
BEGIN:DAYLIGHT
TZOFFSETFROM:+1000
TZOFFSETTO:+1100
TZNAME:AEDT
DTSTART:20230930T160000
END:DAYLIGHT
BEGIN:STANDARD
TZOFFSETFROM:+1100
TZOFFSETTO:+1000
TZNAME:AEST
DTSTART:20240406T160000
END:STANDARD
BEGIN:DAYLIGHT
TZOFFSETFROM:+1000
TZOFFSETTO:+1100
TZNAME:AEDT
DTSTART:20241005T160000
END:DAYLIGHT
BEGIN:STANDARD
TZOFFSETFROM:+1100
TZOFFSETTO:+1000
TZNAME:AEST
DTSTART:20250405T160000
END:STANDARD
BEGIN:DAYLIGHT
TZOFFSETFROM:+1000
TZOFFSETTO:+1100
TZNAME:AEDT
DTSTART:20251004T160000
END:DAYLIGHT
END:VTIMEZONE
BEGIN:VEVENT
DTSTART;TZID=Australia/Sydney:20241031T160000
DTEND;TZID=Australia/Sydney:20241031T200000
DTSTAMP:20260426T011712
CREATED:20241014T001553Z
LAST-MODIFIED:20241014T002849Z
UID:4610-1730390400-1730404800@www.swanseabaptistchurch.org.au
SUMMARY:Treat or Treat '24
DESCRIPTION:[vc_row][vc_column width=”1/2″][vc_single_image image=”4616″ img_size=”full”][vc_custom_heading text=”Community” use_theme_fonts=”yes” css=”.vc_custom_1728865180903{padding-right: 35px !important;padding-left: 35px !important;}”][vc_column_text css=”.vc_custom_1728865213562{padding-right: 35px !important;padding-left: 35px !important;}”] \nA safe alternative for the 31st October.  Fun for all ages and all abilities. \n[/vc_column_text][/vc_column][vc_column width=”1/2″][vc_single_image image=”4615″ img_size=”full”][vc_custom_heading text=”Games plus more!” use_theme_fonts=”yes” css=”.vc_custom_1728865306439{padding-right: 35px !important;padding-left: 35px !important;}”][vc_column_text css=”.vc_custom_1728865339073{padding-right: 35px !important;padding-left: 35px !important;}”] \nCar trunks packed with games and fun challenges to try. Everyone is a winner!  From Harry Potter to Super Mario Bros\, plus Alice in Wonderland and Pirates! \n[/vc_column_text][/vc_column][/vc_row][vc_row][vc_column width=”1/2″][vc_single_image image=”4613″ img_size=”full”][vc_custom_heading text=”Food? We have you covered.” use_theme_fonts=”yes” css=”.vc_custom_1728865434922{padding-right: 35px !important;padding-left: 35px !important;}”][vc_column_text css=”.vc_custom_1728865462978{padding-right: 35px !important;padding-left: 35px !important;}”] \nFrom blessing Cupcakes to Revelation BBQ meat and drinks.  We will not let you starve while the kids enjoy the fun. \n[/vc_column_text][/vc_column][vc_column width=”1/2″][vc_single_image image=”4614″ img_size=”full”][vc_custom_heading text=”Wear your favourite fun costume” use_theme_fonts=”yes” css=”.vc_custom_1728865373674{padding-right: 35px !important;padding-left: 35px !important;}”][vc_column_text css=”.vc_custom_1728865401883{padding-right: 35px !important;padding-left: 35px !important;}”] \nFree gifts for all who wear a fantastic costume.  Make sure you pop into Narnia stall to pick up your gift. \n[/vc_column_text][/vc_column][/vc_row]
URL:https://www.swanseabaptistchurch.org.au/event/treat-or-treat-24/
LOCATION:Church\, 15 Strathmore Rd\, Caves Beach\, NSW\, 2281\, Australia
CATEGORIES:Community,Family,Food,Kids
ATTACH;FMTTYPE=image/jpeg:https://www.swanseabaptistchurch.org.au/wp-content/uploads/sites/3/2024/10/1.jpg
ORGANIZER;CN="Swansea Baptist Church":MAILTO:churchadmin@swanseabaptistchurch.org.au
END:VEVENT
END:VCALENDAR