BEGIN:VCALENDAR
VERSION:2.0
PRODID:-//Swansea Baptist Church - ECPv6.15.20//NONSGML v1.0//EN
CALSCALE:GREGORIAN
METHOD:PUBLISH
X-WR-CALNAME:Swansea Baptist Church
X-ORIGINAL-URL:https://www.swanseabaptistchurch.org.au
X-WR-CALDESC:Events for Swansea Baptist Church
REFRESH-INTERVAL;VALUE=DURATION:PT1H
X-Robots-Tag:noindex
X-PUBLISHED-TTL:PT1H
BEGIN:VTIMEZONE
TZID:Australia/Sydney
BEGIN:STANDARD
TZOFFSETFROM:+1100
TZOFFSETTO:+1000
TZNAME:AEST
DTSTART:20230401T160000
END:STANDARD
BEGIN:DAYLIGHT
TZOFFSETFROM:+1000
TZOFFSETTO:+1100
TZNAME:AEDT
DTSTART:20230930T160000
END:DAYLIGHT
BEGIN:STANDARD
TZOFFSETFROM:+1100
TZOFFSETTO:+1000
TZNAME:AEST
DTSTART:20240406T160000
END:STANDARD
BEGIN:DAYLIGHT
TZOFFSETFROM:+1000
TZOFFSETTO:+1100
TZNAME:AEDT
DTSTART:20241005T160000
END:DAYLIGHT
BEGIN:STANDARD
TZOFFSETFROM:+1100
TZOFFSETTO:+1000
TZNAME:AEST
DTSTART:20250405T160000
END:STANDARD
BEGIN:DAYLIGHT
TZOFFSETFROM:+1000
TZOFFSETTO:+1100
TZNAME:AEDT
DTSTART:20251004T160000
END:DAYLIGHT
END:VTIMEZONE
BEGIN:VEVENT
DTSTART;TZID=Australia/Sydney:20240901T090000
DTEND;TZID=Australia/Sydney:20240901T100000
DTSTAMP:20260426T024744
CREATED:20240827T040138Z
LAST-MODIFIED:20240827T040435Z
UID:4599-1725181200-1725184800@www.swanseabaptistchurch.org.au
SUMMARY:Fathers Day BBQ
DESCRIPTION:[vc_row][vc_column width=”1/2″][vc_custom_heading text=”Fathers Day BBQ” font_container=”tag:h2|font_size:48|text_align:center”][vc_column_text] \nJoin us this Father’s Day as we celebrate our loving Father in Heaven. Family friendly event that includes food – what a great way to start the day!\n[/vc_column_text][/vc_column][vc_column width=”1/2″][vc_single_image image=”4600″ img_size=”large”][/vc_column][/vc_row]
URL:https://www.swanseabaptistchurch.org.au/event/fathers-day-bbq/
LOCATION:Church\, 15 Strathmore Rd\, Caves Beach\, NSW\, 2281\, Australia
CATEGORIES:Church Service,Family,Food,Kids
ATTACH;FMTTYPE=image/jpeg:https://www.swanseabaptistchurch.org.au/wp-content/uploads/sites/3/2024/08/BBQ-Service.jpg
ORGANIZER;CN="Swansea Baptist Church":MAILTO:churchadmin@swanseabaptistchurch.org.au
END:VEVENT
END:VCALENDAR